BEGIN:VCALENDAR
VERSION:2.0
PRODID:-//Radio Dubuque - ECPv5.6.0//NONSGML v1.0//EN
CALSCALE:GREGORIAN
METHOD:PUBLISH
X-WR-CALNAME:Radio Dubuque
X-ORIGINAL-URL:https://www.radiodubuque.com
X-WR-CALDESC:Events for Radio Dubuque
BEGIN:VTIMEZONE
TZID:America/Chicago
BEGIN:DAYLIGHT
TZOFFSETFROM:-0600
TZOFFSETTO:-0500
TZNAME:CDT
DTSTART:20260308T080000
END:DAYLIGHT
BEGIN:STANDARD
TZOFFSETFROM:-0500
TZOFFSETTO:-0600
TZNAME:CST
DTSTART:20261101T070000
END:STANDARD
END:VTIMEZONE
BEGIN:VEVENT
DTSTART;TZID=America/Chicago:20260420T110000
DTEND;TZID=America/Chicago:20260420T170000
DTSTAMP:20260419T224730
CREATED:20260319T160039Z
LAST-MODIFIED:20260319T160039Z
UID:176654-1776682800-1776704400@www.radiodubuque.com
SUMMARY:Platteville Area Retired Educators Association April Meeting
DESCRIPTION:Platteville Area Retired Educators Association will meet on Monday\, April 20 at 11a at the Mound City Bank Motor Branch meeting room\, 90 South Second St.\, Platteville. Lunch is at 11:55a. Call (608) 778-8435 to sign up for a meal. After the lunch the will be a presentation on Qualified Minimum Distributions with a representative from Honkamp\, P.C.
URL:https://www.radiodubuque.com/event/platteville-area-retired-educators-association-april-meeting/
CATEGORIES:Event
END:VEVENT
BEGIN:VEVENT
DTSTART;TZID=America/Chicago:20260420T183000
DTEND;TZID=America/Chicago:20260420T200000
DTSTAMP:20260419T224730
CREATED:20260313T165234Z
LAST-MODIFIED:20260313T165830Z
UID:176150-1776709800-1776715200@www.radiodubuque.com
SUMMARY:Nature Writing Presentation at Sinsinawa Mound
DESCRIPTION:Kick off Earth Week by joining author Kevin Koch on Monday\, April 20 from 6:30p-8p at Sinsinawa Mound Center for a journey that explores his 30 years of nature writing in the Driftless Region. This event is free and open to the public. Attendees are encouraged to come early for mingling and Earth-inspired refreshments.
URL:https://www.radiodubuque.com/event/nature-writing-presentation-at-sinsinawa-mound/
CATEGORIES:Event
END:VEVENT
BEGIN:VEVENT
DTSTART;TZID=America/Chicago:20260421T120000
DTEND;TZID=America/Chicago:20260421T120000
DTSTAMP:20260419T224730
CREATED:20260407T161157Z
LAST-MODIFIED:20260407T161543Z
UID:177803-1776772800-1776772800@www.radiodubuque.com
SUMMARY:American Legion Post # 193 Meeting
DESCRIPTION:The American Legion Post # 193 will meet on Tuesday\, April 21 at 12p at the VFW building on Main Street in Galena\, IL. All Veterans are Welcome.
URL:https://www.radiodubuque.com/event/american-legion-post-193-meeting/
CATEGORIES:Event
END:VEVENT
BEGIN:VEVENT
DTSTART;TZID=America/Chicago:20260421T150000
DTEND;TZID=America/Chicago:20260421T163000
DTSTAMP:20260419T224730
CREATED:20260415T151210Z
LAST-MODIFIED:20260415T151210Z
UID:178478-1776783600-1776789000@www.radiodubuque.com
SUMMARY:UW-Platteville Senior Show Artist Reception
DESCRIPTION:The artist reception for the UW-Platteville Senior Show and BFA Group Exhibition will be held on Tuesday\, April 21 from 3p-4:30p at the Nohr Gallery\, Ullsvik Hall on the UW-Platteville campus. This event is free and open to the public. Light refreshments will be served. Find more show and artist information at uwplatt.edu
URL:https://www.radiodubuque.com/event/uw-platteville-senior-show-artist-reception/
CATEGORIES:Event
END:VEVENT
BEGIN:VEVENT
DTSTART;TZID=America/Chicago:20260421T170000
DTEND;TZID=America/Chicago:20260421T201500
DTSTAMP:20260419T224730
CREATED:20260126T174152Z
LAST-MODIFIED:20260304T134538Z
UID:173236-1776790800-1776802500@www.radiodubuque.com
SUMMARY:Riverview Center’s Evening of Light
DESCRIPTION:Riverview Center’s Evening of Light\, honoring the strength and resilience of survivors of sexual and domestic violence\, will be held on Tuesday\, April 21 from 5p-8:15p at Culbie’s Event Center\, 90 Sinsinawa Ave in East Dubuque. Tickets are available for purchase online at riverviewcenter.org. \nListen to our studio interview with Heidi Zull from the Riverview Center \nhttps://dehayf5mhw1h7.cloudfront.net/wp-content/uploads/sites/1998/2026/03/04073745/light.mp3
URL:https://www.radiodubuque.com/event/riverview-centers-evening-of-light/
CATEGORIES:Event
END:VEVENT
BEGIN:VEVENT
DTSTART;TZID=America/Chicago:20260421T193000
DTEND;TZID=America/Chicago:20260421T193000
DTSTAMP:20260419T224730
CREATED:20260406T173133Z
LAST-MODIFIED:20260406T173133Z
UID:177729-1776799800-1776799800@www.radiodubuque.com
SUMMARY:St. Luke's United Methodist Church Improvisational Concert
DESCRIPTION:An Improvisational Concert hosted at St. Luke’s United Methodist Church will be held on Tuesday\, April 21 at 7:30p at the church 1199 Main. Performers: Oral Uzel\, piano; Ben Drury\, trumpet; Bob Bucko\, guitar. New music and live improvisation based on “Texts not to be read aloud” by Erik Satie. This is a free community concert.
URL:https://www.radiodubuque.com/event/st-lukes-united-methodist-church-improvisational-concert/
CATEGORIES:Event
END:VEVENT
BEGIN:VEVENT
DTSTART;TZID=America/Chicago:20260422T100000
DTEND;TZID=America/Chicago:20260422T120000
DTSTAMP:20260419T224730
CREATED:20260410T153930Z
LAST-MODIFIED:20260410T153930Z
UID:178068-1776852000-1776859200@www.radiodubuque.com
SUMMARY:Celebrate Earth Day at Central Park and the Central Park Nature Center
DESCRIPTION:Celebrate Earth Day at Central Park and the Central Park Nature Center on Wednesday\, April 22. From 10a-12p\, stop by the Nature Center to take part in a community clean-up event as part of the Keep America Beautiful Great American Cleanup and the Keep Iowa Beautiful Pick-Up Iowa campaign. Please bring your work gloves and hiking footwear. Garbage bags\, loaner buckets\, and litter pickers will be provided.
URL:https://www.radiodubuque.com/event/celebrate-earth-day-at-central-park-and-the-central-park-nature-center/
CATEGORIES:Event
END:VEVENT
BEGIN:VEVENT
DTSTART;TZID=America/Chicago:20260422T160000
DTEND;TZID=America/Chicago:20260422T190000
DTSTAMP:20260419T224730
CREATED:20260410T153525Z
LAST-MODIFIED:20260410T153525Z
UID:178066-1776873600-1776884400@www.radiodubuque.com
SUMMARY:Earth Day Celebration at Hurstville Interpretive Center
DESCRIPTION:Jackson County Conservation and the Jackson County Energy District are hosting an Earth Day Celebration at the Hurstville Interpretive Center on Wednesday April 22. This is a free event for all ages. Open house style; come and go between 4p-7p. There will be lots of activities happening throughout the park. Tri-M BBQ food truck will be there\, and a portion of their proceeds will go back to the park. (Hurstville Interpretive Center\, 18670 63rd Street\, Maquoketa IA)
URL:https://www.radiodubuque.com/event/earth-day-celebration-at-hurstville-interpretive-center/
CATEGORIES:Event
END:VEVENT
BEGIN:VEVENT
DTSTART;VALUE=DATE:20260424
DTEND;VALUE=DATE:20260425
DTSTAMP:20260419T224730
CREATED:20260413T204301Z
LAST-MODIFIED:20260413T204301Z
UID:178232-1776988800-1777075199@www.radiodubuque.com
SUMMARY:RSVP for St. Mark Youth Enrichment’s Legacy of Learning Dinner
DESCRIPTION:Please RSVP by Friday\, April 24 to secure your spot for St. Mark Youth Enrichment’s annual Legacy of Learning Event Dinner and Celebration at the Hotel Julien in Dubuque on Thursday\, May 7. For more information or to RSVP\, visit stmarkyouthenrichment.org
URL:https://www.radiodubuque.com/event/rsvp-for-st-mark-youth-enrichments-legacy-of-learning-dinner/
CATEGORIES:Event
END:VEVENT
BEGIN:VEVENT
DTSTART;TZID=America/Chicago:20260426T130000
DTEND;TZID=America/Chicago:20260426T130000
DTSTAMP:20260419T224730
CREATED:20260415T150241Z
LAST-MODIFIED:20260415T150241Z
UID:178475-1777208400-1777208400@www.radiodubuque.com
SUMMARY:Willow Weaving Workshop: Napkin Rings
DESCRIPTION:Learn about some of the basics of weaving with willow branches and make napkin holders when you come to the Willow Weaving Workshop on Sunday\, April 26 at 1p at the Hurstville Interpretive Center. This program is free and open to the public. Registration is required. For more information or to register\, contact Jackson County Conservation at (563) 652-3783 or email conservation@jacksoncounty.iowa.gov.
URL:https://www.radiodubuque.com/event/willow-weaving-workshop-napkin-rings/
CATEGORIES:Event
END:VEVENT
BEGIN:VEVENT
DTSTART;TZID=America/Chicago:20260426T130000
DTEND;TZID=America/Chicago:20260426T160000
DTSTAMP:20260419T224730
CREATED:20260414T161134Z
LAST-MODIFIED:20260414T161134Z
UID:178348-1777208400-1777219200@www.radiodubuque.com
SUMMARY:Dominican Sisters of Sinsinawa Pre Auction Preview
DESCRIPTION:The Dominican Sisters of Sinsinawa will host an on-site preview of their upcoming online auction sale items at Sinsinawa Mound on Sunday\, April 26 from 1p-4p at the rotunda building entrance. Items are posted online at bid.backes-auction.com
URL:https://www.radiodubuque.com/event/dominican-sisters-of-sinsinawa-pre-auction-preview/
CATEGORIES:Event
END:VEVENT
BEGIN:VEVENT
DTSTART;VALUE=DATE:20260427
DTEND;VALUE=DATE:20260428
DTSTAMP:20260419T224730
CREATED:20260413T173544Z
LAST-MODIFIED:20260413T173544Z
UID:178230-1777248000-1777334399@www.radiodubuque.com
SUMMARY:Multicultural Family Center Dinner Fundraiser & Silent Auction Tickets
DESCRIPTION:The Multicultural Family Center will hold a Dinner Fundraiser & Silent Auction at The Barn in Sherrill on Sunday\, May 3 from 5p-7p. Tickets must be purchased in advance for $25 by April 27 & are available through a board member or at the MFC. (Dinner includes 2 Iowa pork chops\, scalloped potatoes\, green bean casserole\, cole slaw\, macaroni salad\, rolls & butter\, coffee & water. Other beverages will be available for purchase)
URL:https://www.radiodubuque.com/event/multicultural-family-center-dinner-fundraiser-silent-auction-tickets/
CATEGORIES:Event
END:VEVENT
BEGIN:VEVENT
DTSTART;TZID=America/Chicago:20260428T100000
DTEND;TZID=America/Chicago:20260428T170000
DTSTAMP:20260419T224730
CREATED:20260306T151356Z
LAST-MODIFIED:20260306T151356Z
UID:175768-1777370400-1777395600@www.radiodubuque.com
SUMMARY:Senior Resource Center Program
DESCRIPTION:The Senior Resource Center’s Wisdom and Wellness program for Tuesday April 28 will begin at 10a Galena ARC; 11084 US Hwy 20 W\, Galena. Today’s program will be a hands on project: Pages from Pulp: A Handmade Paper Workshop to create personalized mini books or greeting cards.
URL:https://www.radiodubuque.com/event/senior-resource-center-program/
CATEGORIES:Event
END:VEVENT
BEGIN:VEVENT
DTSTART;TZID=America/Chicago:20260428T190000
DTEND;TZID=America/Chicago:20260428T190000
DTSTAMP:20260419T224730
CREATED:20260406T172807Z
LAST-MODIFIED:20260406T172807Z
UID:177727-1777402800-1777402800@www.radiodubuque.com
SUMMARY:Dubuque Area Congregations United Monthly Meeting
DESCRIPTION:The Dubuque Area Congregations United will hold their monthly meeting on Tuesday\, April 28 at 7p at Dubuque Unitarian Universalis Fellowship\, 1699 Iowa Street. The Program: “Services for the Elderly” will be presented by Area Agency on Aging. Nonperishable items accepted for the Dubuque Food Pantry. Pull tab collections accepted to support survivors of human trafficking in 3 safe house programs in Iowa. DACU and community members invited.
URL:https://www.radiodubuque.com/event/dubuque-area-congregations-united-monthly-meeting/
CATEGORIES:Event
END:VEVENT
BEGIN:VEVENT
DTSTART;TZID=America/Chicago:20260430T100000
DTEND;TZID=America/Chicago:20260430T100000
DTSTAMP:20260419T224730
CREATED:20260414T160650Z
LAST-MODIFIED:20260414T160650Z
UID:178345-1777543200-1777543200@www.radiodubuque.com
SUMMARY:Dominican Sisters of Sinsinawa Live Online Auction
DESCRIPTION:The Dominican Sisters of Sinsinawa are hosting a live online auction beginning promptly at 10a on Thursday\, April 30. Items are posted online at bid.backes-auction.com. Available for purchase are food service units\, commercial washers and dryers\, church pews\, solid wood dining tables\, shelving units\, cabinetry\, and other items no longer needed by the congregation.
URL:https://www.radiodubuque.com/event/dominican-sisters-of-sinsinawa-live-online-auction/
CATEGORIES:Event
END:VEVENT
BEGIN:VEVENT
DTSTART;TZID=America/Chicago:20260501T080000
DTEND;TZID=America/Chicago:20260501T170000
DTSTAMP:20260419T224730
CREATED:20260305T174356Z
LAST-MODIFIED:20260305T174630Z
UID:175688-1777622400-1777654800@www.radiodubuque.com
SUMMARY:Midwest Pride in Your Ride Truck and Tractor Show Day 1
DESCRIPTION:The Midwest Pride in Your Ride Truck and Tractor Show is a 2 day event held Friday and Saturday May 1 and 2 at Tri-State Raceway in Earlville\, Iowa. Gates open each day at 8a. Find the complete schedule and purchase tickets at: midwestprideinyourride.org
URL:https://www.radiodubuque.com/event/midwest-pride-in-your-ride-truck-and-tractor-show/
CATEGORIES:Event
END:VEVENT
BEGIN:VEVENT
DTSTART;TZID=America/Chicago:20260501T190000
DTEND;TZID=America/Chicago:20260501T210000
DTSTAMP:20260419T224730
CREATED:20260401T180610Z
LAST-MODIFIED:20260401T180610Z
UID:177416-1777662000-1777669200@www.radiodubuque.com
SUMMARY:Bell Tower Theater Jukebox Bingo Fundraiser
DESCRIPTION:The Bell Tower Theater will hold their 2nd-annual Jukebox Bingo Fundraiser on Friday\, May 1 from 7p-9p at Happy’s Place\, 2323 Rockdale Road. Last year’s event sold out so it is recommended that you purchase tickets in advance – online at belltowertheater.net\, by phone at (563) 588-3377 or in person at the Bell Tower Theater Box Office\, 2728 Asbury Road.\nbelltowertheater.net \n 
URL:https://www.radiodubuque.com/event/bell-tower-theater-jukebox-bingo-fundraiser/
CATEGORIES:Event
END:VEVENT
BEGIN:VEVENT
DTSTART;TZID=America/Chicago:20260502T080000
DTEND;TZID=America/Chicago:20260502T080000
DTSTAMP:20260419T224730
CREATED:20260305T174939Z
LAST-MODIFIED:20260305T174939Z
UID:175691-1777708800-1777708800@www.radiodubuque.com
SUMMARY:Midwest Pride in Your Ride Truck and Tractor Show Day 2
DESCRIPTION:Day 2 of the Midwest Pride in Your Ride Truck and Tractor Show is held today at Tri-State Raceway in Earlville\, Iowa. Gates open at 8a. Find the complete schedule and purchase tickets at: midwestprideinyourride.org
URL:https://www.radiodubuque.com/event/midwest-pride-in-your-ride-truck-and-tractor-show-day-2/
CATEGORIES:Event
END:VEVENT
BEGIN:VEVENT
DTSTART;TZID=America/Chicago:20260502T080000
DTEND;TZID=America/Chicago:20260502T170000
DTSTAMP:20260419T224730
CREATED:20260317T162758Z
LAST-MODIFIED:20260317T162758Z
UID:176516-1777708800-1777741200@www.radiodubuque.com
SUMMARY:Warren Lions Club Town Garage Sale
DESCRIPTION:The Warren Lions Club Town Garage Sale will be held on Saturday\, May 2\, from 8a-5p.
URL:https://www.radiodubuque.com/event/warren-lions-club-town-garage-sale/
CATEGORIES:Event
END:VEVENT
BEGIN:VEVENT
DTSTART;VALUE=DATE:20260503
DTEND;VALUE=DATE:20260504
DTSTAMP:20260419T224730
CREATED:20260416T155504Z
LAST-MODIFIED:20260416T155504Z
UID:178616-1777766400-1777852799@www.radiodubuque.com
SUMMARY:Registration Dealine for Dubuque Police and Fire Department’s 2 day Summer Camps
DESCRIPTION:Registration is needed by Sunday\, May 3 to take part in the Dubuque Police and Fire Department’s 2 day summer camps for kids between the ages of 11-18 scheduled June 15 to 19. Registration is available online at the City of Dubuque website or pickup registration forms at the Carnegie Stout Library\, Dubuque Fire Headquarters or at the Dubuque Law Enforcement Center.
URL:https://www.radiodubuque.com/event/registration-dealine-for-dubuque-police-and-fire-departments-2-day-summer-camps/
CATEGORIES:Event
END:VEVENT
BEGIN:VEVENT
DTSTART;TZID=America/Chicago:20260503T073000
DTEND;TZID=America/Chicago:20260503T130000
DTSTAMP:20260419T224730
CREATED:20260416T164220Z
LAST-MODIFIED:20260416T164220Z
UID:178622-1777793400-1777813200@www.radiodubuque.com
SUMMARY:Spring Auto Parts and Swap Meet and Cars for Sale Corral
DESCRIPTION:The annual Spring Auto Parts and Swap Meet and Cars for Sale Corral will be held on Sunday\, May 3 from 7:30a-1p at in the Monticello. Iowa Fairgrounds parking lot\, 700 N. Maple St. Find more information at autopartsswapmeet.net
URL:https://www.radiodubuque.com/event/spring-auto-parts-and-swap-meet-and-cars-for-sale-corral/
CATEGORIES:Event
END:VEVENT
BEGIN:VEVENT
DTSTART;TZID=America/Chicago:20260503T080000
DTEND;TZID=America/Chicago:20260503T120000
DTSTAMP:20260419T224730
CREATED:20260416T150921Z
LAST-MODIFIED:20260416T151032Z
UID:178581-1777795200-1777809600@www.radiodubuque.com
SUMMARY:EAA Chapter 327 Offering Free Airplane Rides
DESCRIPTION:EAA Chapter 327 will offer free airplane rides for kids ages 8-17 on Sunday\, May 3 from 8a-12p at the EAA hanger\, 11052 Airport Rd. Parent/legal guardian approval and signature is required. Pre-Registration is required. Visit eaachapters.org
URL:https://www.radiodubuque.com/event/eaa-chapter-327-offering-free-airplane-rides/
CATEGORIES:Event
END:VEVENT
BEGIN:VEVENT
DTSTART;TZID=America/Chicago:20260506T173000
DTEND;TZID=America/Chicago:20260506T173000
DTSTAMP:20260419T224730
CREATED:20260330T171152Z
LAST-MODIFIED:20260330T171152Z
UID:177268-1778088600-1778088600@www.radiodubuque.com
SUMMARY:Pasty Dinner & Speaker at St Patrick's Parish
DESCRIPTION:You’re invited to a Pasty Dinner followed by a speaker on Wednesday\, May 6 at 5:30p at St Patrick’s Parish Hall in Benton\, Wisconsin.  Sr. Priscilla Wood\, OP will speak on Fr Samuel Mazzuchelli. For dinner reservations please call (608) 750-2892\, Dinner is $15 and proceeds will be given to the Knights of Columbus\, Cuba City to assist with maintenance of St Augustine Church in New Diggings.
URL:https://www.radiodubuque.com/event/pasty-dinner-speaker-at-st-patricks-parish/
CATEGORIES:Event
END:VEVENT
BEGIN:VEVENT
DTSTART;TZID=America/Chicago:20260509T080000
DTEND;TZID=America/Chicago:20260509T080000
DTSTAMP:20260419T224730
CREATED:20260416T211151Z
LAST-MODIFIED:20260416T211151Z
UID:178631-1778313600-1778313600@www.radiodubuque.com
SUMMARY:Mississippi Valley Running Association 5K & 10K
DESCRIPTION:The Mississippi Valley Running Association invites you to participate in the annual 5K & 10K trail run at the Heritage Pond on Saturday\, May 9. Starting time is 8a. Kids 6 and under can participate in a half mile race at no charge beginning at 7:40a. Top 3 per age group and overall awards will be awarded for the 5K & 10K events. For more information\, visit mvradubuque.com
URL:https://www.radiodubuque.com/event/mississippi-valley-running-association-5k-10k/
CATEGORIES:Event
END:VEVENT
BEGIN:VEVENT
DTSTART;TZID=America/Chicago:20260509T080000
DTEND;TZID=America/Chicago:20260509T130000
DTSTAMP:20260419T224730
CREATED:20260410T152519Z
LAST-MODIFIED:20260410T152519Z
UID:178061-1778313600-1778331600@www.radiodubuque.com
SUMMARY:Holy Cross Be a Light Vendor Market
DESCRIPTION:Hometown Pride of Holy Cross and Be a Light Vendor Market will be held on Saturday\, May 9 from 8a-1p on Main Street in Holy Cross. Find Vendors\, Crafters\, Bakers and more. A Mental Health Awareness 5K will begin at 10a.
URL:https://www.radiodubuque.com/event/holy-cross-be-a-light-vendor-market/
CATEGORIES:Event
END:VEVENT
BEGIN:VEVENT
DTSTART;TZID=America/Chicago:20260510T073000
DTEND;TZID=America/Chicago:20260510T123000
DTSTAMP:20260419T224730
CREATED:20260312T165753Z
LAST-MODIFIED:20260312T165753Z
UID:176062-1778398200-1778416200@www.radiodubuque.com
SUMMARY:Timmeu Lodge Scouting America Mother's Day Pancake Breakfast
DESCRIPTION:The Order of the Arrow Timmeu Lodge Scouting America annual Mother’s Day Pancake Breakfast will be held on Sunday\, May 10 from 7:30a-12:30p at Dubuque’s Eagle Point Park. Proceeds support the service projects and activities for the local Lodge. In addition to pancakes the menu includes: scrambled eggs\, sausage links\, milk\, coffee\, and juice. Find more information at scoutingevent.com
URL:https://www.radiodubuque.com/event/timmeu-lodge-scouting-america-mothers-day-pancake-breakfast/
CATEGORIES:Event
END:VEVENT
BEGIN:VEVENT
DTSTART;TZID=America/Chicago:20260514T190000
DTEND;TZID=America/Chicago:20260514T200000
DTSTAMP:20260419T224730
CREATED:20260317T161547Z
LAST-MODIFIED:20260317T161547Z
UID:176505-1778785200-1778788800@www.radiodubuque.com
SUMMARY:Dubuque Audubon May Program
DESCRIPTION:Dubuque Audubon May Program will be held on Thursday\, May 14 from 7p-8p at EB Lyons Interpretive Center\, 8991 Bellevue Heights Road. Find information on this program and more at audubondubuque.org
URL:https://www.radiodubuque.com/event/dubuque-audubon-may-program/
CATEGORIES:Event
END:VEVENT
BEGIN:VEVENT
DTSTART;TZID=America/Chicago:20260515T060000
DTEND;TZID=America/Chicago:20260515T120000
DTSTAMP:20260419T224730
CREATED:20260417T153355Z
LAST-MODIFIED:20260417T153355Z
UID:178725-1778824800-1778846400@www.radiodubuque.com
SUMMARY:Dunkin' Cop on a Roof
DESCRIPTION:The 11th Annual Law Enforcement Torch Run Dunkin’ Cop on a Rooftop fundraiser will be held on Friday\, May 15 from 6a-12p at the Dubuque Dunkin’ located at 2660 Dodge St. Get a coupon for a free donut with any donation. Guests who donate $10 or more will get a second coupon for a free hot or iced coffee\, and those who donate $20 or more will receive a Special Olympics Iowa swag item while supplies last. (Donations can be made via cash\, check\, VENMO\, or credit card.)
URL:https://www.radiodubuque.com/event/dunkin-cop-on-a-roof/
CATEGORIES:Event
END:VEVENT
BEGIN:VEVENT
DTSTART;TZID=America/Chicago:20260516T070000
DTEND;TZID=America/Chicago:20260516T070000
DTSTAMP:20260419T224730
CREATED:20260330T172556Z
LAST-MODIFIED:20260330T172556Z
UID:177272-1778914800-1778914800@www.radiodubuque.com
SUMMARY:Gather for "Go-Go" Fundraising Event
DESCRIPTION:Gather for “Go-Go”\, a fundraising event for the Sudden Unexplained Death in Childhood Foundation in memory of Amelia Rose Vissers\, will be held on Saturday\, May 16 at the Grant County Fairgrounds in Lancaster\, WI. Activities include breakfast served at 7a and a 2-mile walk at 10:30a. Find the day’s schedule of activities at gatherforgogo.com
URL:https://www.radiodubuque.com/event/gather-for-go-go-fundraising-event/
CATEGORIES:Event
END:VEVENT
BEGIN:VEVENT
DTSTART;TZID=America/Chicago:20260522T170000
DTEND;TZID=America/Chicago:20260522T170000
DTSTAMP:20260419T224730
CREATED:20260407T161710Z
LAST-MODIFIED:20260407T161710Z
UID:177806-1779469200-1779469200@www.radiodubuque.com
SUMMARY:American Legion Post # 193 Chicken Dinner Fundraiser
DESCRIPTION:The American Legion Post # 193 will hold their annual Chicken Dinner Fundraiser on Friday\, May 21 at 5p at the Galena Elks Club on Main Street\, Galena. For Veterans and Community
URL:https://www.radiodubuque.com/event/american-legion-post-193-chicken-dinner-fundraiser/
CATEGORIES:Event
END:VEVENT
END:VCALENDAR